BEGIN:VCALENDAR
VERSION:2.0
PRODID:-//Freiwillige Feuerwehr Eibach - ECPv6.15.20//NONSGML v1.0//EN
CALSCALE:GREGORIAN
METHOD:PUBLISH
X-ORIGINAL-URL:https://feuerwehreibach.de
X-WR-CALDESC:Veranstaltungen für Freiwillige Feuerwehr Eibach
REFRESH-INTERVAL;VALUE=DURATION:PT1H
X-Robots-Tag:noindex
X-PUBLISHED-TTL:PT1H
BEGIN:VTIMEZONE
TZID:UTC
BEGIN:STANDARD
TZOFFSETFROM:+0000
TZOFFSETTO:+0000
TZNAME:UTC
DTSTART:20250101T000000
END:STANDARD
END:VTIMEZONE
BEGIN:VEVENT
DTSTART;TZID=UTC:20260914T193000
DTEND;TZID=UTC:20260914T210000
DTSTAMP:20260421T083325
CREATED:20260204T212414Z
LAST-MODIFIED:20260204T212414Z
UID:4369-1789414200-1789419600@feuerwehreibach.de
SUMMARY:Übung - Gruppe 2
DESCRIPTION:
URL:https://feuerwehreibach.de/event/uebung-gruppe-2-36/
CATEGORIES:Übung
END:VEVENT
BEGIN:VEVENT
DTSTART;TZID=UTC:20260921T193000
DTEND;TZID=UTC:20260921T210000
DTSTAMP:20260421T083325
CREATED:20260204T212415Z
LAST-MODIFIED:20260204T212415Z
UID:4370-1790019000-1790024400@feuerwehreibach.de
SUMMARY:Übung - Gruppe 3
DESCRIPTION:
URL:https://feuerwehreibach.de/event/uebung-gruppe-3-32/
CATEGORIES:Übung
END:VEVENT
BEGIN:VEVENT
DTSTART;TZID=UTC:20260925T173000
DTEND;TZID=UTC:20260925T193000
DTSTAMP:20260421T083325
CREATED:20260204T212528Z
LAST-MODIFIED:20260204T212528Z
UID:4393-1790357400-1790364600@feuerwehreibach.de
SUMMARY:Übung - Jugend
DESCRIPTION:
URL:https://feuerwehreibach.de/event/uebung-jugend-39/
CATEGORIES:Übung
END:VEVENT
BEGIN:VEVENT
DTSTART;TZID=UTC:20261005T193000
DTEND;TZID=UTC:20261005T210000
DTSTAMP:20260421T083325
CREATED:20260204T212416Z
LAST-MODIFIED:20260204T212416Z
UID:4371-1791228600-1791234000@feuerwehreibach.de
SUMMARY:Übung - Gruppe 1
DESCRIPTION:
URL:https://feuerwehreibach.de/event/uebung-gruppe-1-38/
CATEGORIES:Übung
END:VEVENT
BEGIN:VEVENT
DTSTART;TZID=UTC:20261006T173000
DTEND;TZID=UTC:20261006T193000
DTSTAMP:20260421T083325
CREATED:20260204T212529Z
LAST-MODIFIED:20260204T212529Z
UID:4394-1791307800-1791315000@feuerwehreibach.de
SUMMARY:Übung - Jugend
DESCRIPTION:
URL:https://feuerwehreibach.de/event/uebung-jugend-40/
CATEGORIES:Übung
END:VEVENT
BEGIN:VEVENT
DTSTART;TZID=UTC:20261007T190000
DTEND;TZID=UTC:20261007T203000
DTSTAMP:20260421T083325
CREATED:20260204T212552Z
LAST-MODIFIED:20260204T212552Z
UID:4407-1791399600-1791405000@feuerwehreibach.de
SUMMARY:Funkübung
DESCRIPTION:
URL:https://feuerwehreibach.de/event/funkuebung-59/
CATEGORIES:Funkübung
END:VEVENT
BEGIN:VEVENT
DTSTART;TZID=UTC:20261012T193000
DTEND;TZID=UTC:20261012T210000
DTSTAMP:20260421T083325
CREATED:20260204T212417Z
LAST-MODIFIED:20260204T212417Z
UID:4372-1791833400-1791838800@feuerwehreibach.de
SUMMARY:Übung - Gruppe 2
DESCRIPTION:
URL:https://feuerwehreibach.de/event/uebung-gruppe-2-37/
CATEGORIES:Übung
END:VEVENT
BEGIN:VEVENT
DTSTART;TZID=UTC:20261019T193000
DTEND;TZID=UTC:20261019T210000
DTSTAMP:20260421T083325
CREATED:20260204T212425Z
LAST-MODIFIED:20260204T212425Z
UID:4373-1792438200-1792443600@feuerwehreibach.de
SUMMARY:Übung - Gruppe 3
DESCRIPTION:
URL:https://feuerwehreibach.de/event/uebung-gruppe-3-33/
CATEGORIES:Übung
END:VEVENT
BEGIN:VEVENT
DTSTART;TZID=UTC:20261023T173000
DTEND;TZID=UTC:20261023T193000
DTSTAMP:20260421T083325
CREATED:20260204T212530Z
LAST-MODIFIED:20260204T212530Z
UID:4395-1792776600-1792783800@feuerwehreibach.de
SUMMARY:Übung - Jugend
DESCRIPTION:
URL:https://feuerwehreibach.de/event/uebung-jugend-41/
CATEGORIES:Übung
END:VEVENT
BEGIN:VEVENT
DTSTART;TZID=UTC:20261102T193000
DTEND;TZID=UTC:20261102T210000
DTSTAMP:20260421T083325
CREATED:20260204T212426Z
LAST-MODIFIED:20260204T212426Z
UID:4374-1793647800-1793653200@feuerwehreibach.de
SUMMARY:Übung - Gruppe 1
DESCRIPTION:
URL:https://feuerwehreibach.de/event/uebung-gruppe-1-39/
CATEGORIES:Übung
END:VEVENT
BEGIN:VEVENT
DTSTART;TZID=UTC:20261103T173000
DTEND;TZID=UTC:20261103T193000
DTSTAMP:20260421T083325
CREATED:20260204T212531Z
LAST-MODIFIED:20260204T212531Z
UID:4396-1793727000-1793734200@feuerwehreibach.de
SUMMARY:Übung - Jugend
DESCRIPTION:
URL:https://feuerwehreibach.de/event/uebung-jugend-42/
CATEGORIES:Übung
END:VEVENT
BEGIN:VEVENT
DTSTART;TZID=UTC:20261104T190000
DTEND;TZID=UTC:20261104T203000
DTSTAMP:20260421T083325
CREATED:20260204T212558Z
LAST-MODIFIED:20260204T212558Z
UID:4408-1793818800-1793824200@feuerwehreibach.de
SUMMARY:Funkübung
DESCRIPTION:
URL:https://feuerwehreibach.de/event/funkuebung-60/
CATEGORIES:Funkübung
END:VEVENT
BEGIN:VEVENT
DTSTART;TZID=UTC:20261109T193000
DTEND;TZID=UTC:20261109T210000
DTSTAMP:20260421T083325
CREATED:20260204T212427Z
LAST-MODIFIED:20260204T212427Z
UID:4375-1794252600-1794258000@feuerwehreibach.de
SUMMARY:Übung - Gruppe 2
DESCRIPTION:
URL:https://feuerwehreibach.de/event/uebung-gruppe-2-38/
CATEGORIES:Übung
END:VEVENT
BEGIN:VEVENT
DTSTART;TZID=UTC:20261116T193000
DTEND;TZID=UTC:20261116T210000
DTSTAMP:20260421T083325
CREATED:20260204T212428Z
LAST-MODIFIED:20260204T212428Z
UID:4376-1794857400-1794862800@feuerwehreibach.de
SUMMARY:Übung - Gruppe 3
DESCRIPTION:
URL:https://feuerwehreibach.de/event/uebung-gruppe-3-34/
CATEGORIES:Übung
END:VEVENT
BEGIN:VEVENT
DTSTART;TZID=UTC:20261120T173000
DTEND;TZID=UTC:20261120T193000
DTSTAMP:20260421T083325
CREATED:20260204T212532Z
LAST-MODIFIED:20260204T212532Z
UID:4397-1795195800-1795203000@feuerwehreibach.de
SUMMARY:Übung - Jugend
DESCRIPTION:
URL:https://feuerwehreibach.de/event/uebung-jugend-43/
CATEGORIES:Übung
END:VEVENT
BEGIN:VEVENT
DTSTART;TZID=UTC:20261123T193000
DTEND;TZID=UTC:20261123T220000
DTSTAMP:20260421T083325
CREATED:20260204T212437Z
LAST-MODIFIED:20260204T212437Z
UID:4380-1795462200-1795471200@feuerwehreibach.de
SUMMARY:Herbstversammlung
DESCRIPTION:
URL:https://feuerwehreibach.de/event/herbstversammlung-3/
CATEGORIES:Veranstaltung
END:VEVENT
BEGIN:VEVENT
DTSTART;TZID=UTC:20261228T193000
DTEND;TZID=UTC:20261228T230000
DTSTAMP:20260421T083325
CREATED:20260204T212429Z
LAST-MODIFIED:20260204T212429Z
UID:4377-1798486200-1798498800@feuerwehreibach.de
SUMMARY:Weihnachtsfeier
DESCRIPTION:
URL:https://feuerwehreibach.de/event/weihnachtsfeier-4/
CATEGORIES:Veranstaltung
END:VEVENT
END:VCALENDAR